BEGIN:VCALENDAR
VERSION:2.0
PRODID:-//IP.Board Calendar 4.5.4.2//EN
METHOD:PUBLISH
CALSCALE:GREGORIAN
X-WR-CALNAME:Arhiv
BEGIN:VTIMEZONE
TZID:Europe/London
TZURL:http://tzurl.org/zoneinfo/Europe/London
X-LIC-LOCATION:Europe/London
BEGIN:DAYLIGHT
TZOFFSETFROM:+0000
TZOFFSETTO:+0100
TZNAME:BST
DTSTART:20160327T020000Z
RRULE:FREQ=YEARLY;BYMONTH=3;BYDAY=-1SU
END:DAYLIGHT
BEGIN:STANDARD
TZOFFSETFROM:+0100
TZOFFSETTO:+0000
TZNAME:GMT
DTSTART:20161030T020000Z
RRULE:FREQ=YEARLY;BYMONTH=10;BYDAY=-1SU
END:STANDARD
END:VTIMEZONE
BEGIN:VEVENT
SUMMARY:DTM90s @ Nordschleife
DTSTAMP:20151207T150723Z
SEQUENCE:0
UID:9-17-462bb5d95ef879f1189751a2b9501051@www.slo-racing.com
ORGANIZER;CN="PEK":info@slo-racing.com
DESCRIPTION:\n\n\n	\n\n\n\n\n\n\n\n	Urnik\n\n\n\n\n\n\n\n	3.1.2016 (dan
	 dirke):\n\n\n\n\n\n\n\n		19:00 - Trening (60 min)\n\n	\n\n	\n\n		20:00 -
	 Kvalifikacije (30 min)\n\n	\n\n	\n\n		20:30 - Dirka 1 (3 krogi)\n\n	\n\
	n\n\n	Nastavitve strežnika\n\n\n\n\n\n\n\n	Server: slo-racing.com DTM 90s
	Geslo: slodtm90s\n\n\n\n\n\n\n\n	Dirkalnik: Alfa 155 Ti V6\, BMW E30 M3 
	DTM\, Mercedes 190EDirkališče: Nurburgring Nordschleife Endurance (z GP
	 progo)\n\nPRIJAVA NA DIRKO!\n\n\n
DTSTART:20160103T190000Z
DTEND:20160103T200000Z
END:VEVENT
END:VCALENDAR
