BEGIN:VCALENDAR
VERSION:2.0
PRODID:-//IP.Board Calendar 4.5.4.2//EN
METHOD:PUBLISH
CALSCALE:GREGORIAN
X-WR-CALNAME:Arhiv
BEGIN:VTIMEZONE
TZID:Europe/London
TZURL:http://tzurl.org/zoneinfo/Europe/London
X-LIC-LOCATION:Europe/London
BEGIN:DAYLIGHT
TZOFFSETFROM:+0000
TZOFFSETTO:+0100
TZNAME:BST
DTSTART:20150329T020000Z
RRULE:FREQ=YEARLY;BYMONTH=3;BYDAY=-1SU
END:DAYLIGHT
BEGIN:STANDARD
TZOFFSETFROM:+0100
TZOFFSETTO:+0000
TZNAME:GMT
DTSTART:20151025T020000Z
RRULE:FREQ=YEARLY;BYMONTH=10;BYDAY=-1SU
END:STANDARD
END:VTIMEZONE
BEGIN:VEVENT
SUMMARY:DTM90s @ Zandvoort
DTSTAMP:20151207T150341Z
SEQUENCE:0
UID:8-17-462bb5d95ef879f1189751a2b9501051@www.slo-racing.com
ORGANIZER;CN="PEK":info@slo-racing.com
DESCRIPTION:\n\n\n	\n\n\n\n\n\n	Urnik\n\n\n\n\n\n\n\n	27.12.2015 (dan di
	rke):\n\n\n\n\n\n\n\n		19:30 - Trening (30 min)\n\n	\n\n	\n\n		20:00 - Kva
	lifikacije (20 min)\n\n	\n\n	\n\n		20:25 - Dirka 1 (11 krogov)\n\n	\n\n	
	\n\n		21:00 - Kvalifikacije 2 (5min)\n\n	\n\n	\n\n		21:05 - Dirka 2 (11 
	krogov)\n\n	\n\n\n\n	Nastavitve strežnika\n\n\n\n\n\n\n\n	Server: slo-rac
	ing.com DTM 90sGeslo: slodtm90s\n\n\n\n\n\n\n\n	Dirkalnik: Alfa 155 Ti V
	6\, BMW E30 M3 DTM\, Mercedes 190EDirkališče: Zandvoort\n\nPRIJAVA NA D
	IRKO\n\n\n
DTSTART:20151227T190000Z
DTEND:20151227T203000Z
END:VEVENT
END:VCALENDAR
