BEGIN:VCALENDAR
VERSION:2.0
PRODID:-//IP.Board Calendar 4.5.4.2//EN
METHOD:PUBLISH
CALSCALE:GREGORIAN
X-WR-CALNAME:Arhiv
BEGIN:VTIMEZONE
TZID:Europe/London
TZURL:http://tzurl.org/zoneinfo/Europe/London
X-LIC-LOCATION:Europe/London
BEGIN:DAYLIGHT
TZOFFSETFROM:+0000
TZOFFSETTO:+0100
TZNAME:BST
DTSTART:20150329T020000Z
RRULE:FREQ=YEARLY;BYMONTH=3;BYDAY=-1SU
END:DAYLIGHT
BEGIN:STANDARD
TZOFFSETFROM:+0100
TZOFFSETTO:+0000
TZNAME:GMT
DTSTART:20151025T020000Z
RRULE:FREQ=YEARLY;BYMONTH=10;BYDAY=-1SU
END:STANDARD
END:VTIMEZONE
BEGIN:VEVENT
SUMMARY:SuperTouring @ Brands Hatch Indy
DTSTAMP:20151207T143554Z
SEQUENCE:0
UID:6-17-462bb5d95ef879f1189751a2b9501051@www.slo-racing.com
ORGANIZER;CN="B_U_R_I":info@slo-racing.com
DESCRIPTION:\n\n\n	\n\n\n\n\n\n	 \n\n\n\n\n\n\n\n	Testna dirka SloRacin
	g SuperTouring prvenstva\, namenjena spoznavanju sotekmovalcev\, igre\, pr
	avil\, načina dirkanja in testiranju serverja.\n\n\n\n\n\n\n\n	Kaj potre
	bujete\n\n\n\n\n\n\n\n		Prijava v dirko\n\n	\n\n	\n\n		Original simulacija
	 Race 07 in mod SloRacing Supertouring (Link 2)\n\n	\n\n	\n\n		Pozna
	vanje SuperTrouring pravilnika\n\n	\n\n	\n\n		V profilu Race07 obvezno na
	stavite  pravo ime in priimek brez šumnikov: ne Murn Matjaž\, ne MU
	RN Matjaž\, ne Matjaž MURN\, ne M Murn... temveč Matjaz Murn\n\n	\n\
	n	\n\n		TeamSpeak (Server: sloracing.ddns.net Geslo: sloracingts)\n\n	
	\n\n\n\n	Urnik\n\n\n\n\n\n\n\n	13.12.2015 (dan dirke):\n\n\n\n\n\n\n\n		17
	:00 - Trening (120 min)\n\n	\n\n	\n\n		19:00 - Kvalifikacije (20 min)\n\n	
	\n\n	\n\n		19:20 - Warmup (10 min)\n\n	\n\n	\n\n		19:30 - Dirka 1 (30 min)
	\n\n	\n\n	\n\n		20:05 - Dirka 2 (30 min)\n\n	\n\n\n\n	Nastavitve strežnik
	a\n\n\n\n\n\n\n\n	Server: SloRacing SuperTouringGeslo: sloracing\n\n\n\n\
	n\n\n\n	Dirkalnik: Super TouringDirkališče: Brands Hatch Indy\n\n\n\n\
	n\n\n\n	Podlaga: Standard Race07\, spremenljiva tekom eventa.Pomoči: Sa
	modejna sklopkaČas: Standard Race07Obraba gum: Vključena (100%)Poraba 
	goriva: Vključena (100%)Poškodbe: Vključene (100%)\n\n\n\n\n\n\n\n	 
	\n\n\n\n\n\n\n\n	Prijavi se na dirko\n\n\n
DTSTART:20151213T160000Z
DTEND:20151213T204500Z
END:VEVENT
END:VCALENDAR
