BEGIN:VCALENDAR
VERSION:2.0
PRODID:-//IP.Board Calendar 4.5.4.2//EN
METHOD:PUBLISH
CALSCALE:GREGORIAN
X-WR-CALNAME:Fun dirke
BEGIN:VTIMEZONE
TZID:Europe/London
TZURL:http://tzurl.org/zoneinfo/Europe/London
X-LIC-LOCATION:Europe/London
BEGIN:DAYLIGHT
TZOFFSETFROM:+0000
TZOFFSETTO:+0100
TZNAME:BST
DTSTART:20150329T020000Z
RRULE:FREQ=YEARLY;BYMONTH=3;BYDAY=-1SU
END:DAYLIGHT
BEGIN:STANDARD
TZOFFSETFROM:+0100
TZOFFSETTO:+0000
TZNAME:GMT
DTSTART:20151025T020000Z
RRULE:FREQ=YEARLY;BYMONTH=10;BYDAY=-1SU
END:STANDARD
END:VTIMEZONE
BEGIN:VEVENT
SUMMARY:GT3 @ Mugello
DTSTAMP:20151207T143315Z
SEQUENCE:0
UID:5-5-462bb5d95ef879f1189751a2b9501051@www.slo-racing.com
ORGANIZER;CN="B_U_R_I":info@slo-racing.com
DESCRIPTION:\n\n\n	\n\n\n\n\n\n\n\n	Potek\n\n\n\n\n\n\n\n	10.12.2015\n\n
	\n\n\n\n\n\n		20:00 - Trening (30 min)\n\n	\n\n	\n\n		20:30 - Kvalifikacij
	e (15 min)\n\n	\n\n	\n\n		20:45 - Dirka (15 krogov)\n\n	\n\n\n\n	Server: s
	lo-racing.com GT3Geslo: sloracing\n\n\n\n\n\n\n\n	Podlaga: dinamična\nPo
	moči: samodejna sklopka\nObraba gum: Vključena (100%)\nPoraba goriva:
	 Vključena (100%)\nPoškodbe: Vključene (50%)\nŠtart: stoječi\n\n\
	n\n\n\n\n\n	Balast: /\n\n\n\n\n\n\n\n	Dirkalniki:\n\n\n\n\n\n\n\n		Lambor
	ghini Huracan GT3\n\n	\n\n	\n\n		AUDI R8 ULTRA 2014\n\n	\n\n	\n\n		BMW Z4 
	GT3\n\n	\n\n	\n\n		Mclaren MP4-12C GT3\n\n	\n\n	\n\n		Mercedes SLS GT3\n\n
		\n\n	\n\n		Nissan GT-R Nismo GT3\n\n	\n\n	\n\n		Bentley continental gt3\n
	\n	\n\n\n\n	Kaj potrebujete\n\n\n\n\n\n\n\n		original simulacija Assetto 
	Corsa\n\n	\n\n	\n\n		DLC dodatek za  Assetto Corsa \"Dream pack 2\" in D
	P 1\n\n	\n\n	\n\n		v nastavitvah Assetto Corsa obvezno nastavite  pravo i
	me in priimek brez šumnikov: ne Murn Matjaž\, ne MURN Matjaž\, ne
	 Matjaž MURN\, ne M Murn... temveč Matjaz Murn\n\n	\n\n	\n\n		Če se 
	dirke ne boste uspeli udeležiti\, je potrebno v tej temi sporočiti odsot
	nost. V kolikor tega ne storite in se dirke ne udeležite\, imate prepoved
	 udeležbe na naslednji dirki. Enako velja za tiste\, ki se boste poskuša
	li dirke udeležiti in ne boste na seznamu prijavljenih voznikov.\n\n	\n\n
	\n\n	 \n\n\n\n\n\n\n\n	Prijavi se na dirko\n\n\n
DTSTART:20151210T190000Z
DTEND:20151210T203000Z
END:VEVENT
END:VCALENDAR
