BEGIN:VCALENDAR
VERSION:2.0
PRODID:-//IP.Board Calendar 4.5.4.2//EN
METHOD:PUBLISH
CALSCALE:GREGORIAN
X-WR-CALNAME:Arhiv
BEGIN:VTIMEZONE
TZID:Europe/London
TZURL:http://tzurl.org/zoneinfo/Europe/London
X-LIC-LOCATION:Europe/London
BEGIN:DAYLIGHT
TZOFFSETFROM:+0000
TZOFFSETTO:+0100
TZNAME:BST
DTSTART:20160327T020000Z
RRULE:FREQ=YEARLY;BYMONTH=3;BYDAY=-1SU
END:DAYLIGHT
BEGIN:STANDARD
TZOFFSETFROM:+0100
TZOFFSETTO:+0000
TZNAME:GMT
DTSTART:20161030T020000Z
RRULE:FREQ=YEARLY;BYMONTH=10;BYDAY=-1SU
END:STANDARD
END:VTIMEZONE
BEGIN:VEVENT
SUMMARY:Barbagallo
DTSTAMP:20160321T163627Z
SEQUENCE:0
UID:44-17-462bb5d95ef879f1189751a2b9501051@www.slo-racing.com
ORGANIZER;CN="B_U_R_I":info@slo-racing.com
DESCRIPTION:\n\n\n	\n\n\n\n\n\n	Kaj potrebujete\n\n\n\n\n\n\n\n		prijava
	 v prvenstvo\n\n	\n\n	\n\n		original simulacija Assetto Corsa in plačl
	jiv dodatek Dream Pack 1\n\n	\n\n	\n\n		poznavanje pravilnika\n\n	\n\n	\
	n\n		v nastavitvah Assetto Corsa obvezno nastavite  pravo ime in priimek
	 brez šumnikov: ne Murn Matjaž\, ne MURN Matjaž\, ne Matjaž MURN
	\, ne M Murn... temveč Matjaz Murn\n\n	\n\n	\n\n		TeamSpeak (Server: 
	sloracing.ddns.net Geslo: sloracingts)\n\n	\n\n\n\n	Urnik\n\n\n\n\n\n\n\
	n	3.4.2016 (dan dirke):\n\n\n\n\n\n\n\n		18:00 - Trening (120 min)\n\n	\n\
	n	\n\n		20:00 - Kvalifikacije (20 min)\n\n	\n\n	\n\n		20:30 - Dirka 1 (27 
	krogov)\n\n	\n\n	\n\n		21:15 - Dirka 2 (27 krogov)\n\n	\n\n\n\n	Nastavitve
	 strežnika\n\n\n\n\n\n\n\n	Server: slo-racing.com BMW Makoma M235i CupGes
	lo: slobmw\n\n\n\n\n\n\n\n	Dirkalnik: BMW M235i RacingDirkališče: Bar
	bagallo\n\n\n\n\n\n\n\n	Podlaga: Dinamična (glej pravilnik - člen 2.9.1
	)Pomoči: Samodejna sklopka ter ABSČas: 13:00Obraba gum: Vključena (1
	00%)Poraba goriva: Vključena (100%)Poškodbe: Vključene (100%)\n\n\n\n
	\n\n\n\n	Vreme: \n\n\n\n\n\n\n\n	\n\n\n\n\n\n\n\n	Pokrovitelji\n\n\n\n\n\
	n\n\n	\n\n\n\n\n\n	\n\n\n\n\n\n	\n\n\n\n\n\n	\n\n\n\n\n\n	\n\n\n\n\n\n	\n
DTSTART:20160403T160000Z
DTEND:20160403T193000Z
END:VEVENT
END:VCALENDAR
