BEGIN:VCALENDAR
VERSION:2.0
PRODID:-//IP.Board Calendar 4.5.4.2//EN
METHOD:PUBLISH
CALSCALE:GREGORIAN
X-WR-CALNAME:Fun dirke
BEGIN:VTIMEZONE
TZID:Europe/London
TZURL:http://tzurl.org/zoneinfo/Europe/London
X-LIC-LOCATION:Europe/London
BEGIN:DAYLIGHT
TZOFFSETFROM:+0000
TZOFFSETTO:+0100
TZNAME:BST
DTSTART:20160327T020000Z
RRULE:FREQ=YEARLY;BYMONTH=3;BYDAY=-1SU
END:DAYLIGHT
BEGIN:STANDARD
TZOFFSETFROM:+0100
TZOFFSETTO:+0000
TZNAME:GMT
DTSTART:20161030T020000Z
RRULE:FREQ=YEARLY;BYMONTH=10;BYDAY=-1SU
END:STANDARD
END:VTIMEZONE
BEGIN:VEVENT
SUMMARY:McLaren MP4/4 @ Barcelona Moto
DTSTAMP:20160223T193237Z
SEQUENCE:0
UID:35-5-462bb5d95ef879f1189751a2b9501051@www.slo-racing.com
ORGANIZER;CN="B_U_R_I":info@slo-racing.com
DESCRIPTION:\n\n\n	\n\n\n\n\n\n	Potek\n\n\n\n\n\n\n\n	6.3.2016\n\n\n\n\n
	\n\n\n		18:00 - Trening (120 min)\n\n	\n\n	\n\n		20:20 - Kvalifikacije (20
	 min)\n\n	\n\n	\n\n		20:30 - Dirka 1 (30 krogov)\n\n	\n\n\n\n	Server: slo-
	racing.com FUN  Geslo: sloracing\n\n\n\n\n\n\n\n	Podlaga: 100%Pomoči: 
	samodejna sklopkaObraba gum: Vključena (100%)Poraba goriva: Vključena 
	(100%)Poškodbe: Vključene (50%)Štart: stoječi\n\n\n\n\n\n\n\n	Dirka
	lniki:\n\n\n\n\n\n\n\n		McLaren MP4/4\n\n	\n\n\n\n	Dirkališče:\n\n\n\n\n
	\n\n\n		Barcelona Moto\n\n	\n\n\n\n	Kaj potrebujete\n\n\n\n\n\n\n\n		origi
	nal simulacija Assetto Corsa \n\n	\n\n	\n\n		DLC dodatke za  Assetto Co
	rsa: DP2  \n\n	\n\n	\n\n		v nastavitvah Assetto Corsa obvezno nastavit
	e  pravo ime in priimek brez šumnikov: ne Murn Matjaž\, ne MURN Ma
	tjaž\, ne Matjaž MURN\, ne M Murn... temveč Matjaz Murn\n\n	\n\n	\n
	\n		Če se dirke ne boste uspeli udeležiti\, je potrebno v tej temi spor
	očiti odsotnost. V kolikor tega ne storite in se dirke ne udeležite\, im
	ate prepoved udeležbe na naslednji dirki. Enako velja za tiste\, ki se bo
	ste poskušali dirke udeležiti in ne boste na seznamu prijavljenih voznik
	ov.\n\n	\n\n\n\n	Team Speak server\n\n\n\n\n\n\n\n	Naslov: sloracing.ddns.
	net\n\n	Geslo: sloracingts\n\n\n
DTSTART:20160306T170000Z
DTEND:20160306T203000Z
END:VEVENT
END:VCALENDAR
