BEGIN:VCALENDAR
VERSION:2.0
PRODID:-//IP.Board Calendar 4.5.4.2//EN
METHOD:PUBLISH
CALSCALE:GREGORIAN
X-WR-CALNAME:Hotlap Challenge
BEGIN:VTIMEZONE
TZID:Europe/London
TZURL:http://tzurl.org/zoneinfo/Europe/London
X-LIC-LOCATION:Europe/London
BEGIN:DAYLIGHT
TZOFFSETFROM:+0000
TZOFFSETTO:+0100
TZNAME:BST
DTSTART:20160327T020000Z
RRULE:FREQ=YEARLY;BYMONTH=3;BYDAY=-1SU
END:DAYLIGHT
BEGIN:STANDARD
TZOFFSETFROM:+0100
TZOFFSETTO:+0000
TZNAME:GMT
DTSTART:20161030T020000Z
RRULE:FREQ=YEARLY;BYMONTH=10;BYDAY=-1SU
END:STANDARD
END:VTIMEZONE
BEGIN:VEVENT
SUMMARY:Hotlap Challenge #17 - McLaren MP4/4 @ Barcelona Moto
DTSTAMP:20160223T185154Z
SEQUENCE:0
UID:34-8-462bb5d95ef879f1189751a2b9501051@www.slo-racing.com
ORGANIZER;CN="B_U_R_I":info@slo-racing.com
DESCRIPTION:\n\n\n	\n\n\n\n\n\n	Urnik\n\n\n\n\n\n\n\n	23.2.2016 - 6.3.20
	16\n\n\n\n\n\n\n\n	Dirkalnik\n\n\n\n\n\n\n\n	McLaren MP4/4\n\n\n\n\n\n\n\n
		Dirkališče\n\n\n\n\n\n\n\n	Barcelona Moto\n\n\n\n\n\n\n\n	Nastavitve\n\
	n\n\n\n\n\n\n	Strežnik: slo-racing.com | Hotlap challengeGeslo: sloraci
	ng\n\n\n\n\n\n\n\n	Podlaga: Optimal (100%)Pomoči: Samodejna sklopkaTemp
	eratura zraka: 26°CTemperatura asfalta: 32°C\n\n\n\n\n\n\n\n	Kaj potre
	bujete\n\n\n\n\n\n\n\n		original simulacija Assetto Corsa\n\n	\n\n	\n\n		
	v nastavitvah Assetto Corsa obvezno nastavite  pravo ime in priimek bre
	z šumnikov: ne Murn Matjaž\, ne MURN Matjaž\, ne Matjaž MURN\, ne
	 M Murn... temveč Matjaz Murn\n\n	\n\n\n\n	LIVE timing\n\n\n
DTSTART;VALUE=DATE:20160223
DTEND;VALUE=DATE:20160307
END:VEVENT
END:VCALENDAR
