BEGIN:VCALENDAR
VERSION:2.0
PRODID:-//IP.Board Calendar 4.5.4.2//EN
METHOD:PUBLISH
CALSCALE:GREGORIAN
X-WR-CALNAME:Arhiv
BEGIN:VTIMEZONE
TZID:Europe/London
TZURL:http://tzurl.org/zoneinfo/Europe/London
X-LIC-LOCATION:Europe/London
BEGIN:DAYLIGHT
TZOFFSETFROM:+0000
TZOFFSETTO:+0100
TZNAME:BST
DTSTART:20160327T020000Z
RRULE:FREQ=YEARLY;BYMONTH=3;BYDAY=-1SU
END:DAYLIGHT
BEGIN:STANDARD
TZOFFSETFROM:+0100
TZOFFSETTO:+0000
TZNAME:GMT
DTSTART:20161030T020000Z
RRULE:FREQ=YEARLY;BYMONTH=10;BYDAY=-1SU
END:STANDARD
END:VTIMEZONE
BEGIN:VEVENT
SUMMARY:5. Mugello
DTSTAMP:20160203T081702Z
SEQUENCE:0
UID:30-17-462bb5d95ef879f1189751a2b9501051@www.slo-racing.com
ORGANIZER;CN="B_U_R_I":info@slo-racing.com
DESCRIPTION:\n\n\n	\n\n\n\n\n\n	 \n\n\n\n\n\n\n\n	Kaj potrebujete\n\n\n
	\n\n\n\n\n		prijava v prvenstvo\n\n	\n\n	\n\n		original simulacija Assett
	o Corsa in plačljiv dodatek Dream Pack 1\n\n	\n\n	\n\n		poznavanje pr
	avilnika\n\n	\n\n	\n\n		v nastavitvah Assetto Corsa obvezno nastavite  pr
	avo ime in priimek brez šumnikov: ne Murn Matjaž\, ne MURN Matjaž\
	, ne Matjaž MURN\, ne M Murn... temveč Matjaz Murn\n\n	\n\n	\n\n		Tea
	mSpeak (Server: sloracing.ddns.net Geslo: sloracingts)\n\n	\n\n\n\n	Ur
	nik\n\n\n\n\n\n\n\n	21.2.2016 (dan dirke):\n\n\n\n\n\n\n\n		18:00 - Trenin
	g (120 min)\n\n	\n\n	\n\n		20:00 - Kvalifikacije (20 min)\n\n	\n\n	\n\n		2
	0:30 - Dirka 1 (13 krogov)\n\n	\n\n	\n\n		21:15 - Dirka 2 (13 krogov)\n\n	
	\n\n\n\n	Nastavitve strežnika\n\n\n\n\n\n\n\n	Server: slo-racing.com BMW 
	Makoma M235i CupGeslo: slobmw\n\n\n\n\n\n\n\n	Dirkalnik: BMW M235i Racin
	gDirkališče: Mugello\n\n\n\n\n\n\n\n	Podlaga: Dinamična (glej praviln
	ik - člen 2.9.1)Pomoči: Samodejna sklopka ter ABSČas: 16:00Obraba gu
	m: Vključena (100%)Poraba goriva: Vključena (100%)Poškodbe: Vključe
	ne (100%)\n\n\n\n\n\n\n\n	Vreme: \n\n\n\n\n\n\n\n	\n\n\n\n\n\n\n\n	Pokrov
	itelji\n\n\n\n\n\n\n\n	\n\n\n\n\n\n	\n\n\n\n\n\n	\n\n\n\n\n\n	\n\n\n\n\n\n
		\n\n\n\n\n\n	\n
DTSTART:20160221T170000Z
DTEND:20160221T203000Z
END:VEVENT
END:VCALENDAR
