BEGIN:VCALENDAR
VERSION:2.0
PRODID:-//IP.Board Calendar 4.5.4.2//EN
METHOD:PUBLISH
CALSCALE:GREGORIAN
X-WR-CALNAME:Fun dirke
BEGIN:VTIMEZONE
TZID:Europe/London
TZURL:http://tzurl.org/zoneinfo/Europe/London
X-LIC-LOCATION:Europe/London
BEGIN:DAYLIGHT
TZOFFSETFROM:+0000
TZOFFSETTO:+0100
TZNAME:BST
DTSTART:20160327T020000Z
RRULE:FREQ=YEARLY;BYMONTH=3;BYDAY=-1SU
END:DAYLIGHT
BEGIN:STANDARD
TZOFFSETFROM:+0100
TZOFFSETTO:+0000
TZNAME:GMT
DTSTART:20161030T020000Z
RRULE:FREQ=YEARLY;BYMONTH=10;BYDAY=-1SU
END:STANDARD
END:VTIMEZONE
BEGIN:VEVENT
SUMMARY:GT3 @ Daytona 2007 Road
DTSTAMP:20160115T115055Z
SEQUENCE:0
UID:26-5-462bb5d95ef879f1189751a2b9501051@www.slo-racing.com
ORGANIZER;CN="B_U_R_I":info@slo-racing.com
DESCRIPTION:\n\n\n	\n\n\n\n\n\n\n\n	Potek\n\n\n\n\n\n\n\n	6.2.2016\n\n\n
	\n\n\n\n\n		19:30 - Trening (60 min)\n\n	\n\n	\n\n		20:30 - Kvalifikacije 
	(20 min)\n\n	\n\n	\n\n		20:50 - Dirka (40 min)\n\n	\n\n\n\n	Server: slo-ra
	cing.com FUNGeslo: sloracingir\n\n\n\n\n\n\n\n	Odpravljamo se na \"the sun
	shine state\". Florida. Daytona beach. Kombinacija \"road\" in \"ovala\".
	 Da nam bo Marjan kej pokazal  Proga je brezplačna. GT3 avto je potrebn
	o kupit. Caddilac je vključen.\n\n\n\n\n\n\n\n	Če bo prijavljenih slo-ra
	cing voznikov malo bomo server odprili za druge.\n\n\n\n\n\n\n\n	Nastavitv
	e strežnika:\n\n	Dinamična podlaga. Stanje podlage se prenaša iz sessio
	na v session. Vreme dinamično\, rahlo oblačno\, vroče. Asfalt pregret.
	 Gorivo bo omejeno na 60% in bo torej potreben pit-stop. 2x fast repair\,
	 20 incidentov. Leteči štart.\n\n\n\n\n\n\n\n	Dirkalnik:\n\n\n\n\n\n\n\n
			GT3\n\n	\n\n	\n\n		Cadillac CTS-V\n\n	\n\n\n\n	Kaj potrebujete\n\n\n\n\n
	\n\n\n		Simulacijo iRacing in enega izmed plačljivih GT3 dirkalnikov\n\n	
	\n\n\n
DTSTART:20160206T183000Z
DTEND:20160206T203000Z
END:VEVENT
END:VCALENDAR
