BEGIN:VCALENDAR
VERSION:2.0
PRODID:-//IP.Board Calendar 4.5.4.2//EN
METHOD:PUBLISH
CALSCALE:GREGORIAN
X-WR-CALNAME:Fun dirke
BEGIN:VTIMEZONE
TZID:Europe/London
TZURL:http://tzurl.org/zoneinfo/Europe/London
X-LIC-LOCATION:Europe/London
BEGIN:DAYLIGHT
TZOFFSETFROM:+0000
TZOFFSETTO:+0100
TZNAME:BST
DTSTART:20160327T020000Z
RRULE:FREQ=YEARLY;BYMONTH=3;BYDAY=-1SU
END:DAYLIGHT
BEGIN:STANDARD
TZOFFSETFROM:+0100
TZOFFSETTO:+0000
TZNAME:GMT
DTSTART:20161030T020000Z
RRULE:FREQ=YEARLY;BYMONTH=10;BYDAY=-1SU
END:STANDARD
END:VTIMEZONE
BEGIN:VEVENT
SUMMARY:Ford Escort RS1600 @ Brands Hatch Indy
DTSTAMP:20160108T123630Z
SEQUENCE:0
UID:18-5-462bb5d95ef879f1189751a2b9501051@www.slo-racing.com
ORGANIZER;CN="B_U_R_I":info@slo-racing.com
DESCRIPTION:\n\n\n	\n\n\n\n\n\n	Potek\n\n\n\n\n\n\n\n	19.1.2016\n\n\n\n\
	n\n\n\n		19:00 - Trening (100 min)\n\n	\n\n	\n\n		20:40 - Kvalifikacije (2
	0 min)\n\n	\n\n	\n\n		21:00 - Dirka (20 krogov)\n\n	\n\n\n\n	Server: slo-r
	acing.com FUNGeslo: sloracing\n\n\n\n\n\n\n\n	Podlaga: dinamičnaPomoči
	: samodejna sklopkaObraba gum: Vključena (100%)Poraba goriva: Vključe
	na (100%)Poškodbe: Vključene (50%)\n\n	 \n\n\n\n\n\n\n\n	Štart: st
	oječiBalast: brez\n\n\n\n\n\n\n\n	Dirkalnik\n\n\n\n\n\n\n\n		Ford Escort
	 RS1600\n\n	\n\n\n\n	Dirkališče\n\n\n\n\n\n\n\n		Brands Hatch Indy\n\n	\
	n\n\n\n	Kaj potrebujete\n\n\n\n\n\n\n\n		original simulacija Assetto Cors
	a\n\n	\n\n	\n\n		DLC dodatke za  Assetto Corsa: DP3\n\n	\n\n	\n\n		v nas
	tavitvah Assetto Corsa obvezno nastavite  pravo ime in priimek brez šum
	nikov: ne Murn Matjaž\, ne MURN Matjaž\, ne Matjaž MURN\, ne M Mur
	n... temveč Matjaz Murn\n\n	\n\n	\n\n		Če se dirke ne boste uspeli ude
	ležiti\, je potrebno v tej temi sporočiti odsotnost. V kolikor tega ne s
	torite in se dirke ne udeležite\, imate prepoved udeležbe na naslednji d
	irki. Enako velja za tiste\, ki se boste poskušali dirke udeležiti in ne
	 boste na seznamu prijavljenih voznikov.\n\n	\n\n\n\n	Team Speak server\n\
	n\n\n\n\n\n\n	Naslov: sloracing.ddns.net\n\n	Geslo: sloracingts\n\n\n
DTSTART:20160119T180000Z
DTEND:20160119T210000Z
END:VEVENT
END:VCALENDAR
