BEGIN:VCALENDAR
VERSION:2.0
PRODID:-//IP.Board Calendar 4.5.4.2//EN
METHOD:PUBLISH
CALSCALE:GREGORIAN
X-WR-CALNAME:Hotlap Challenge
BEGIN:VTIMEZONE
TZID:Europe/London
TZURL:http://tzurl.org/zoneinfo/Europe/London
X-LIC-LOCATION:Europe/London
BEGIN:DAYLIGHT
TZOFFSETFROM:+0000
TZOFFSETTO:+0100
TZNAME:BST
DTSTART:20160327T020000Z
RRULE:FREQ=YEARLY;BYMONTH=3;BYDAY=-1SU
END:DAYLIGHT
BEGIN:STANDARD
TZOFFSETFROM:+0100
TZOFFSETTO:+0000
TZNAME:GMT
DTSTART:20161030T020000Z
RRULE:FREQ=YEARLY;BYMONTH=10;BYDAY=-1SU
END:STANDARD
END:VTIMEZONE
BEGIN:VEVENT
SUMMARY:Ford Escort RS1600 @ Magione
DTSTAMP:20160108T075813Z
SEQUENCE:0
UID:16-8-462bb5d95ef879f1189751a2b9501051@www.slo-racing.com
ORGANIZER;CN="B_U_R_I":info@slo-racing.com
DESCRIPTION:\n\n\n	\n\n\n\n\n\n	Urnik\n\n\n\n\n\n\n\n	7.1.2016 - 17.1.20
	16\n\n\n\n\n\n\n\n	Dirkalnik\n\n\n\n\n\n\n\n	Ford Escort RS1600\n\n\n\n\n\
	n\n\n	Dirkališče\n\n\n\n\n\n\n\n	Magione\n\n\n\n\n\n\n\n	Nastavitve\n\n\
	n\n\n\n\n\n	Strežnik: slo-racing.com | Hotlap challengeGeslo: sloracing
	\n\n\n\n\n\n\n\n	Podlaga: Optimal (100%)Pomoči: Samodejna sklopkaTemper
	atura zraka: 26°CTemperatura asfalta: 32°C\n\n\n\n\n\n\n\n	Kaj potrebu
	jete\n\n\n\n\n\n\n\n		original simulacija Assetto Corsa\n\n	\n\n	\n\n		v 
	nastavitvah Assetto Corsa obvezno nastavite  pravo ime in priimek brez 
	šumnikov: ne Murn Matjaž\, ne MURN Matjaž\, ne Matjaž MURN\, ne M
	 Murn... temveč Matjaz Murn\n\n	\n\n\n\n	LIVE timing\n\n\n
DTSTART;VALUE=DATE:20160107
DTEND;VALUE=DATE:20160118
END:VEVENT
END:VCALENDAR
