BEGIN:VCALENDAR
VERSION:2.0
PRODID:-//IP.Board Calendar 4.5.4.2//EN
METHOD:PUBLISH
CALSCALE:GREGORIAN
X-WR-CALNAME:Fun dirke
BEGIN:VTIMEZONE
TZID:Europe/London
TZURL:http://tzurl.org/zoneinfo/Europe/London
X-LIC-LOCATION:Europe/London
BEGIN:DAYLIGHT
TZOFFSETFROM:+0000
TZOFFSETTO:+0100
TZNAME:BST
DTSTART:20160327T020000Z
RRULE:FREQ=YEARLY;BYMONTH=3;BYDAY=-1SU
END:DAYLIGHT
BEGIN:STANDARD
TZOFFSETFROM:+0100
TZOFFSETTO:+0000
TZNAME:GMT
DTSTART:20161030T020000Z
RRULE:FREQ=YEARLY;BYMONTH=10;BYDAY=-1SU
END:STANDARD
END:VTIMEZONE
BEGIN:VEVENT
SUMMARY:Lotus Type 49 @ Laguna Seca
DTSTAMP:20160107T141025Z
SEQUENCE:0
UID:15-5-462bb5d95ef879f1189751a2b9501051@www.slo-racing.com
ORGANIZER;CN="B_U_R_I":info@slo-racing.com
DESCRIPTION:\n\n\n	\n\n\n\n\n\n	Potek\n\n\n\n\n\n\n\n	14.1.2016\n\n\n\n\
	n\n\n\n		19:00 - Trening (100 min)\n\n	\n\n	\n\n		20:40 - Kvalifikacije (2
	0 min)\n\n	\n\n	\n\n		21:00 - Dirka (20 krogov)\n\n	\n\n\n\n	Server: slo-r
	acing.com FUNGeslo: sloracing\n\n\n\n\n\n\n\n	Podlaga: dinamičnaPomoči
	: samodejna sklopkaObraba gum: Vključena (200%)Poraba goriva: Vključe
	na (200%)Poškodbe: Vključene (50%)Setup: fixed (TBA)\n\n\n\n\n\n\n\n
		Štart: stoječiBalast: brez\n\n\n\n\n\n\n\n	Dirkalnik\n\n\n\n\n\n\n\n	
		Lotus Type 49\n\n	\n\n\n\n	Dirkališče\n\n\n\n\n\n\n\n		Laguna Seca\n\n	
	\n\n\n\n	Kaj potrebujete\n\n\n\n\n\n\n\n		original simulacija Assetto Cor
	sa\n\n	\n\n	\n\n		v nastavitvah Assetto Corsa obvezno nastavite  pravo im
	e in priimek brez šumnikov: ne Murn Matjaž\, ne MURN Matjaž\, ne 
	Matjaž MURN\, ne M Murn... temveč Matjaz Murn\n\n	\n\n	\n\n		Če se di
	rke ne boste uspeli udeležiti\, je potrebno v tej temi sporočiti odsotno
	st. V kolikor tega ne storite in se dirke ne udeležite\, imate prepoved u
	deležbe na naslednji dirki. Enako velja za tiste\, ki se boste poskušali
	 dirke udeležiti in ne boste na seznamu prijavljenih voznikov.\n\n	\n\n\n
	\n	Team Speak server\n\n\n\n\n\n\n\n	Naslov: sloracing.ddns.net\n\n	Geslo:
	 sloracingts\n\n\n
DTSTART:20160114T180000Z
DTEND:20160114T203000Z
END:VEVENT
END:VCALENDAR
