BEGIN:VCALENDAR
VERSION:2.0
PRODID:-//IP.Board Calendar 4.5.4.2//EN
METHOD:PUBLISH
CALSCALE:GREGORIAN
X-WR-CALNAME:DiRT Rally 2  prvenstvo
BEGIN:VTIMEZONE
TZID:Europe/London
TZURL:http://tzurl.org/zoneinfo/Europe/London
X-LIC-LOCATION:Europe/London
BEGIN:DAYLIGHT
TZOFFSETFROM:+0000
TZOFFSETTO:+0100
TZNAME:BST
DTSTART:20160327T020000Z
RRULE:FREQ=YEARLY;BYMONTH=3;BYDAY=-1SU
END:DAYLIGHT
BEGIN:STANDARD
TZOFFSETFROM:+0100
TZOFFSETTO:+0000
TZNAME:GMT
DTSTART:20161030T020000Z
RRULE:FREQ=YEARLY;BYMONTH=10;BYDAY=-1SU
END:STANDARD
END:VTIMEZONE
BEGIN:VEVENT
SUMMARY:0. Retro Mini Cup
DTSTAMP:20160104T130748Z
SEQUENCE:0
UID:14-7-462bb5d95ef879f1189751a2b9501051@www.slo-racing.com
ORGANIZER;CN="B_U_R_I":info@slo-racing.com
DESCRIPTION:\n\n\n	Prvi preizkus\, ki čaka naše tekmovalce je razvrsti
	tvena dirka Retro Mini Cup. Z identičnimi avtomobili Mini Cooper S bo o i
	zidu odločala samo spretnost posameznega voznika. Tekmovanje je namenjeno
	 zasedanju dirkalnikov razreda WRC\, ki so v omejenem številu. Zaslužil
	e si jih bodo le najboljše ekipe!\n\n\n\n\n\n\n\n	\n\n\n\n\n\n	 \n\n\n\
	n\n\n\n\n	Vozniki bodo primorani odvoziti šest kratkih\, tehnično zahtev
	nih etap iz vseh šestih držav prisotnih v prvenstvu\, v enakem vrstnem 
	redu ter brez servisov. Boj bo napet\, potrebna bo koncentracija in vzdrž
	evanje kondicije avtomobila. Organizatorji vsem tekmovalcem želijo veliko
	 sreče.\n\n	Naj zmaga najboljši!\n\n\n\n\n\n\n\n		SS1 Route de Turini M
	ontée (Night/Snow)\n\n	\n\n	\n\n		SS2 Östra Hinnsjön (Afternoon / Clou
	dy)\n\n	\n\n	\n\n		SS3 Fourkéta Kourva (Sunset / Clear)\n\n	\n\n	\n\n		S
	S4 Kotajärvi (Midday / Sunny)\n\n	\n\n	\n\n		SS5 Flugzeugring (Morning 
	/ Clear)\n\n	\n\n	\n\n		SS6 Bidno Moorland Reverse (Morning / Rain)\n\n	\
	n\n\n
DTSTART;VALUE=DATE:20160106
DTEND;VALUE=DATE:20160113
END:VEVENT
END:VCALENDAR
