BEGIN:VCALENDAR
VERSION:2.0
PRODID:-//IP.Board Calendar 4.5.4.2//EN
METHOD:PUBLISH
CALSCALE:GREGORIAN
X-WR-CALNAME:Fun dirke
BEGIN:VTIMEZONE
TZID:Europe/London
TZURL:http://tzurl.org/zoneinfo/Europe/London
X-LIC-LOCATION:Europe/London
BEGIN:DAYLIGHT
TZOFFSETFROM:+0000
TZOFFSETTO:+0100
TZNAME:BST
DTSTART:20150329T020000Z
RRULE:FREQ=YEARLY;BYMONTH=3;BYDAY=-1SU
END:DAYLIGHT
BEGIN:STANDARD
TZOFFSETFROM:+0100
TZOFFSETTO:+0000
TZNAME:GMT
DTSTART:20151025T020000Z
RRULE:FREQ=YEARLY;BYMONTH=10;BYDAY=-1SU
END:STANDARD
END:VTIMEZONE
BEGIN:VEVENT
SUMMARY:Mazda MX-5 @ Laguna Seca
DTSTAMP:20151216T093340Z
SEQUENCE:0
UID:11-5-462bb5d95ef879f1189751a2b9501051@www.slo-racing.com
ORGANIZER;CN="B_U_R_I":info@slo-racing.com
DESCRIPTION:\n\n\n	\n\n\n\n\n\n	Potek\n\n\n\n\n\n\n\n	29.12.2015\n\n\n\n
	\n\n\n\n		20:30 - Trening (70 min)\n\n	\n\n	\n\n		20:40 - Kvalifikacije (2
	0 min)\n\n	\n\n	\n\n		21:00 - Dirka (30 min)\n\n	\n\n\n\n	Server: slo-raci
	ng.com FUNGeslo: sloracingir\n\n\n\n\n\n\n\n	Nastavitve strežnika:\n\n\n	
	Dinamična podlaga. Stanje podlage se prenaša iz sessiona v session.\n\n\
	n\n\n\n\n\n	Dirkalnik:\n\n\n\n\n\n\n\n		Mazda MX-5\n\n	\n\n\n\n	Kaj potreb
	ujete\n\n\n\n\n\n\n\n		original simulacija iRacing\n\n	\n\n	\n\n		če se d
	irke ne boste uspeli udeležiti\, je potrebno v tej temi sporočiti odsotn
	ost.\n\n	\n\n\n\n	Na dirko se prijavite v tej temi.\n\n\n
DTSTART:20151229T193000Z
DTEND:20151229T203000Z
END:VEVENT
END:VCALENDAR
